BEGIN:VCALENDAR
VERSION:2.0
PRODID:-//ეროვნული სამეცნიერო ბიბლიოთეკა - ECPv6.15.18//NONSGML v1.0//EN
CALSCALE:GREGORIAN
METHOD:PUBLISH
X-WR-CALNAME:ეროვნული სამეცნიერო ბიბლიოთეკა
X-ORIGINAL-URL:https://sciencelib.ge
X-WR-CALDESC:Events for ეროვნული სამეცნიერო ბიბლიოთეკა
REFRESH-INTERVAL;VALUE=DURATION:PT1H
X-Robots-Tag:noindex
X-PUBLISHED-TTL:PT1H
BEGIN:VTIMEZONE
TZID:Asia/Dubai
BEGIN:STANDARD
TZOFFSETFROM:+0400
TZOFFSETTO:+0400
TZNAME:+04
DTSTART:20200101T000000
END:STANDARD
END:VTIMEZONE
BEGIN:VEVENT
DTSTART;VALUE=DATE:20211223
DTEND;VALUE=DATE:20231224
DTSTAMP:20260419T225432
CREATED:20241011T105641Z
LAST-MODIFIED:20241011T105832Z
UID:31494-1640217600-1703375999@sciencelib.ge
SUMMARY:წლის საუკეთესო მიღწევა
DESCRIPTION:ეროვნული სამეცნიერო ბიბლიოთეკის ორგანიზებით 2021 წლის 23 დეკემბერს საქართველოს სამეცნიერო და უმაღლესი სასწავლო დაწესებულებებისთვის ჩატარდა რიგით მეოთხე ღინისძიება თემაზე – „წლის საუკეთესო მიღწევა“. ოცდასამმა ორგანიზაციამ წარმოადგინა პრეზენტაცია 2021 წლის განმავლობაში მათ მიერ განხორციელებული ყველაზე მნიშვნელოვანი აქტივობის შესახებ. ღონისძიების შესახებ დაწვრილებითი ინფორმაცია იხილეთ მითითებულ ბმულზე: \nhttps://www.facebook.com/NSLGeorgia/posts/pfbid02PnzE4U3UcEUSyL9KEKD3BfwVdJYe6cMQyaS7v6pZuqrnVBwvjQBX8oSDJFb8rmVAl
URL:https://sciencelib.ge/event/%e1%83%ac%e1%83%9a%e1%83%98%e1%83%a1-%e1%83%a1%e1%83%90%e1%83%a3%e1%83%99%e1%83%94%e1%83%97%e1%83%94%e1%83%a1%e1%83%9d-%e1%83%9b%e1%83%98%e1%83%a6%e1%83%ac%e1%83%94%e1%83%95%e1%83%90-3/
CATEGORIES:2021,ძველი ღონისძიება
ATTACH;FMTTYPE=image/png:https://sciencelib.ge/wp-content/uploads/2024/10/წლის-საუკეთესო-მიღწევა-1.png
END:VEVENT
BEGIN:VEVENT
DTSTART;VALUE=DATE:20230601
DTEND;VALUE=DATE:20230602
DTSTAMP:20260419T225432
CREATED:20241021T113926Z
LAST-MODIFIED:20241021T113926Z
UID:40923-1685577600-1685663999@sciencelib.ge
SUMMARY:ინოვაციური და კრეატიული იდეების კონკურსი - „კრეატიული აზროვნება და ინოვაციური იდეების მოფიქრება“
DESCRIPTION:ეროვნულ სამეცნიერო ბიბლიოთეკაში ჩატარდა სკოლებს შორის ინოვაციური და კრეატიული იდეების კონკურსი\, სახელწოდებით – „კრეატიული აზროვნება და ინოვაციური იდეების მოფიქრება“. სკოლის გუნდებმა წარადგინეს ის საკონკურსო პრეზენტაციები რომლებზეც დღის განმავლობაში მუშაობდნენ ჩვენს სივრცეში. მათ ბიბლიოთეკისთვის უნდა მოეფიქრებინათ კრეატიული და ინოვაციური აპლიკაციის იდეა. კონკურსის შესახებ დაწვრილებითი ინფორმაცია იხილეთ მითითებულ ბმულზე: \nhttps://www.facebook.com/NSLGeorgia/posts/pfbid028kHVjFGx22otKebR7sjuhs7Q79H63ggF8KPCUgN9i9bjjNUmJCb6JaHC2ZdVhDURl
URL:https://sciencelib.ge/event/%e1%83%98%e1%83%9c%e1%83%9d%e1%83%95%e1%83%90%e1%83%aa%e1%83%98%e1%83%a3%e1%83%a0%e1%83%98-%e1%83%93%e1%83%90-%e1%83%99%e1%83%a0%e1%83%94%e1%83%90%e1%83%a2%e1%83%98%e1%83%a3%e1%83%9a%e1%83%98/
CATEGORIES:2023,ძველი ღონისძიება
ATTACH;FMTTYPE=image/jpeg:https://sciencelib.ge/wp-content/uploads/2024/10/ინოვაციური-და-კრეატიული-იდეების-კონკურსი.jpg
END:VEVENT
BEGIN:VEVENT
DTSTART;TZID=Asia/Dubai:20230601T080000
DTEND;TZID=Asia/Dubai:20230601T170000
DTSTAMP:20260419T225432
CREATED:20230914T092753Z
LAST-MODIFIED:20241015T121658Z
UID:4863-1685606400-1685638800@sciencelib.ge
SUMMARY:კონკურსი „კრეატიული აზროვნება და ინოვაციური იდეების მოფიქრება“
DESCRIPTION:1 ივნისს\, ბავშვთა დაცვის საერთაშორისო დღესთან დაკავშირებით ეროვნულ სამეცნიერო ბიბლიოთეკაში ჩატარდა სკოლებს შორის ინოვაციური და კრეატიული იდეების კონკურსი\, სახელწოდებით – „კრეატიული აზროვნება და ინოვაციური იდეების მოფიქრება“. \n  \nკონკურსში მონაწილეობა მიიღეს 7-10 კლასის სკოლის მოსწავლეებისაგან შემდგარმა გუნდებმა\, რომლის კაპიტნებმაც ბიბლიოთეკის სივრცეში გაიარეს 1 თვიანი ტრენინგი კრეატიულ აზროვნებასა და ინოვაციური იდეების მოფიქრებაში. \nსკოლის გუნდებმა წარადგინეს ის საკონკურსო პრეზენტაციები რომლებზეც დღის განმავლობაში მუშაობდნენ ჩვენს სივრცეში. მათ ბიბლიოთეკისთვის უნდა მოეფიქრებინათ კრეატიული და ინოვაციური აპლიკაციის იდეა. \n  \nეროვნულმა სამეცნიერო ბიბლიოთეკამ დამატებით თავისი რჩეული გამოავლინა და იდეებს განუხორციელებს 23-ე და ნიუტონის სკოლის მოსწავლეებს \n  \nჟიურის გადაწყვეტილებით გამოვლინდა 3 გამარჯვებული გუნდი: \n  \nადგილი: რობერტ შუმანის ევროპული სასწავლებელი „მოძღვარი“; \nადგილი: წმინდა ბარბარეს სახელობის სკოლა; \nბიბლიოთეკის რჩეული: 45-ე საჯარო სკოლა; \n 
URL:https://sciencelib.ge/event/%e1%83%a1%e1%83%99%e1%83%9d%e1%83%9a%e1%83%94%e1%83%91%e1%83%a1-%e1%83%a8%e1%83%9d%e1%83%a0%e1%83%98%e1%83%a1-%e1%83%99%e1%83%9d%e1%83%9c%e1%83%99%e1%83%a3%e1%83%a0%e1%83%a1%e1%83%98/
CATEGORIES:ძველი ღონისძიება
ATTACH;FMTTYPE=image/jpeg:https://sciencelib.ge/wp-content/uploads/2023/09/DSC_0727-scaled.jpg
END:VEVENT
END:VCALENDAR