BEGIN:VCALENDAR
VERSION:2.0
PRODID:-//ეროვნული სამეცნიერო ბიბლიოთეკა - ECPv6.15.18//NONSGML v1.0//EN
CALSCALE:GREGORIAN
METHOD:PUBLISH
X-WR-CALNAME:ეროვნული სამეცნიერო ბიბლიოთეკა
X-ORIGINAL-URL:https://sciencelib.ge
X-WR-CALDESC:Events for ეროვნული სამეცნიერო ბიბლიოთეკა
REFRESH-INTERVAL;VALUE=DURATION:PT1H
X-Robots-Tag:noindex
X-PUBLISHED-TTL:PT1H
BEGIN:VTIMEZONE
TZID:Asia/Dubai
BEGIN:STANDARD
TZOFFSETFROM:+0400
TZOFFSETTO:+0400
TZNAME:+04
DTSTART:20200101T000000
END:STANDARD
END:VTIMEZONE
BEGIN:VEVENT
DTSTART;VALUE=DATE:20211223
DTEND;VALUE=DATE:20231224
DTSTAMP:20260420T075506
CREATED:20241011T105641Z
LAST-MODIFIED:20241011T105832Z
UID:31494-1640217600-1703375999@sciencelib.ge
SUMMARY:წლის საუკეთესო მიღწევა
DESCRIPTION:ეროვნული სამეცნიერო ბიბლიოთეკის ორგანიზებით 2021 წლის 23 დეკემბერს საქართველოს სამეცნიერო და უმაღლესი სასწავლო დაწესებულებებისთვის ჩატარდა რიგით მეოთხე ღინისძიება თემაზე – „წლის საუკეთესო მიღწევა“. ოცდასამმა ორგანიზაციამ წარმოადგინა პრეზენტაცია 2021 წლის განმავლობაში მათ მიერ განხორციელებული ყველაზე მნიშვნელოვანი აქტივობის შესახებ. ღონისძიების შესახებ დაწვრილებითი ინფორმაცია იხილეთ მითითებულ ბმულზე: \nhttps://www.facebook.com/NSLGeorgia/posts/pfbid02PnzE4U3UcEUSyL9KEKD3BfwVdJYe6cMQyaS7v6pZuqrnVBwvjQBX8oSDJFb8rmVAl
URL:https://sciencelib.ge/event/%e1%83%ac%e1%83%9a%e1%83%98%e1%83%a1-%e1%83%a1%e1%83%90%e1%83%a3%e1%83%99%e1%83%94%e1%83%97%e1%83%94%e1%83%a1%e1%83%9d-%e1%83%9b%e1%83%98%e1%83%a6%e1%83%ac%e1%83%94%e1%83%95%e1%83%90-3/
CATEGORIES:2021,ძველი ღონისძიება
ATTACH;FMTTYPE=image/png:https://sciencelib.ge/wp-content/uploads/2024/10/წლის-საუკეთესო-მიღწევა-1.png
END:VEVENT
BEGIN:VEVENT
DTSTART;VALUE=DATE:20230203
DTEND;VALUE=DATE:20230204
DTSTAMP:20260420T075506
CREATED:20241021T103709Z
LAST-MODIFIED:20241021T103709Z
UID:40830-1675382400-1675468799@sciencelib.ge
SUMMARY:მოგზაური ეკოლოგების შეხვედრა
DESCRIPTION:ეროვნულ სამეცნიერო ბიბლიოთეკაში ჩატარდა შეხვედრა ჰანნა ოლლოსსა (სლოვაკეთი) და ჯონას ზომერთან (გერმანია)\, ველოსიპედით მოგზაურ ეკოლოგებთან\, რომლებიც მოგვიყვნენ\, როგორ გადაწყვიტა ორმა ეკოლოგმა\, ორი ველოსიპედით\, 20 ქვეყნისაა და 20000 კილომეტრის გავლა ბუნების დამცველების აღმოსაჩენად. შეხვედრის შესახებ დაწვრილებითი ინფორმაცია იხილეთ მითითებულ ბმულზე: \nhttps://www.facebook.com/NSLGeorgia/posts/pfbid0pQqwGmfokBC91hSGcVe4tr5RrF7zeWHwVELGnizVcWQXBFq9ipsLNb3CD2mtFDcfl
URL:https://sciencelib.ge/event/%e1%83%9b%e1%83%9d%e1%83%92%e1%83%96%e1%83%90%e1%83%a3%e1%83%a0%e1%83%98-%e1%83%94%e1%83%99%e1%83%9d%e1%83%9a%e1%83%9d%e1%83%92%e1%83%94%e1%83%91%e1%83%98%e1%83%a1-%e1%83%a8%e1%83%94%e1%83%ae%e1%83%95/
CATEGORIES:2023,ძველი ღონისძიება
ATTACH;FMTTYPE=image/jpeg:https://sciencelib.ge/wp-content/uploads/2024/10/მოგზაური-ეკოლოგების-შეხვედრა.jpg
END:VEVENT
BEGIN:VEVENT
DTSTART;VALUE=DATE:20230211
DTEND;VALUE=DATE:20230212
DTSTAMP:20260420T075506
CREATED:20241021T103924Z
LAST-MODIFIED:20241021T103924Z
UID:40833-1676073600-1676159999@sciencelib.ge
SUMMARY:ჩემი მთავარი სამეცნიერო მიღწევა
DESCRIPTION:11 თებერვალს\, ეროვნულ სამეცნიერო ბიბლიოთეკაში მეცნიერ ქალთა და გოგონათა საერთაშორისო დღისადმი მიძღვნილი რიგით მეორე ღონისძიება გაიმართა\, თემაზე – „ჩემი მთავარი სამეცნიერო მიღწევა“. ღონისძიების შესახებ დაწვრილებითი ინფორმაცია იხილეთ მითითებულ ბმულზე: \nhttps://www.facebook.com/NSLGeorgia/posts/pfbid02oXQT4rehDD6sWa9ZdX3QhK8ap15rszioSjsyV7Y3NJSbGWcZGMbYFgGy9igRZeeZl
URL:https://sciencelib.ge/event/%e1%83%a9%e1%83%94%e1%83%9b%e1%83%98-%e1%83%9b%e1%83%97%e1%83%90%e1%83%95%e1%83%90%e1%83%a0%e1%83%98-%e1%83%a1%e1%83%90%e1%83%9b%e1%83%94%e1%83%aa%e1%83%9c%e1%83%98%e1%83%94%e1%83%a0%e1%83%9d-2/
CATEGORIES:2023,ძველი ღონისძიება
ATTACH;FMTTYPE=image/jpeg:https://sciencelib.ge/wp-content/uploads/2024/10/ჩემი-მთავარი-სამეცნიერო-მიღწევა.jpg
END:VEVENT
BEGIN:VEVENT
DTSTART;VALUE=DATE:20230214
DTEND;VALUE=DATE:20230215
DTSTAMP:20260420T075506
CREATED:20241021T104130Z
LAST-MODIFIED:20241021T104130Z
UID:40836-1676332800-1676419199@sciencelib.ge
SUMMARY:ტრენინგი - "ორგანიზაციული კრეატივი და იდეების გენერირება"
DESCRIPTION:ეროვნულ სამეცნიერო ბიბლიოთეკაში ჩატარდა ტრენინგი – ორგანიზაციული კრეატივი და იდეების გენერირება\, ტრენერი – კოტე იანტბელიძე. შეხვედრის შესახებ დაწვრილებითი ინფორმაცია იხილეთ მითითებულ ბმულზე: \nhttps://www.facebook.com/NSLGeorgia/posts/pfbid024YMeQMZWPjPLWQPgLi13R2PLmTsZT4xLvMPWPU3NQ8LMFJ9JMtfmUZ77ZjBANypal
URL:https://sciencelib.ge/event/%e1%83%a2%e1%83%a0%e1%83%94%e1%83%9c%e1%83%98%e1%83%9c%e1%83%92%e1%83%98-%e1%83%9d%e1%83%a0%e1%83%92%e1%83%90%e1%83%9c%e1%83%98%e1%83%96%e1%83%90%e1%83%aa%e1%83%98%e1%83%a3%e1%83%9a%e1%83%98/
CATEGORIES:2023,ძველი ღონისძიება
ATTACH;FMTTYPE=image/jpeg:https://sciencelib.ge/wp-content/uploads/2024/10/ტრენინგი-ორგანიზაციული-კრეატივი-და-იდეების-გენერირება.jpg
END:VEVENT
END:VCALENDAR