BEGIN:VCALENDAR
VERSION:2.0
PRODID:-//ეროვნული სამეცნიერო ბიბლიოთეკა - ECPv6.15.18//NONSGML v1.0//EN
CALSCALE:GREGORIAN
METHOD:PUBLISH
X-WR-CALNAME:ეროვნული სამეცნიერო ბიბლიოთეკა
X-ORIGINAL-URL:https://sciencelib.ge
X-WR-CALDESC:Events for ეროვნული სამეცნიერო ბიბლიოთეკა
REFRESH-INTERVAL;VALUE=DURATION:PT1H
X-Robots-Tag:noindex
X-PUBLISHED-TTL:PT1H
BEGIN:VTIMEZONE
TZID:Asia/Dubai
BEGIN:STANDARD
TZOFFSETFROM:+0400
TZOFFSETTO:+0400
TZNAME:+04
DTSTART:20200101T000000
END:STANDARD
END:VTIMEZONE
BEGIN:VEVENT
DTSTART;VALUE=DATE:20211223
DTEND;VALUE=DATE:20231224
DTSTAMP:20260420T060605
CREATED:20241011T105641Z
LAST-MODIFIED:20241011T105832Z
UID:31494-1640217600-1703375999@sciencelib.ge
SUMMARY:წლის საუკეთესო მიღწევა
DESCRIPTION:ეროვნული სამეცნიერო ბიბლიოთეკის ორგანიზებით 2021 წლის 23 დეკემბერს საქართველოს სამეცნიერო და უმაღლესი სასწავლო დაწესებულებებისთვის ჩატარდა რიგით მეოთხე ღინისძიება თემაზე – „წლის საუკეთესო მიღწევა“. ოცდასამმა ორგანიზაციამ წარმოადგინა პრეზენტაცია 2021 წლის განმავლობაში მათ მიერ განხორციელებული ყველაზე მნიშვნელოვანი აქტივობის შესახებ. ღონისძიების შესახებ დაწვრილებითი ინფორმაცია იხილეთ მითითებულ ბმულზე: \nhttps://www.facebook.com/NSLGeorgia/posts/pfbid02PnzE4U3UcEUSyL9KEKD3BfwVdJYe6cMQyaS7v6pZuqrnVBwvjQBX8oSDJFb8rmVAl
URL:https://sciencelib.ge/event/%e1%83%ac%e1%83%9a%e1%83%98%e1%83%a1-%e1%83%a1%e1%83%90%e1%83%a3%e1%83%99%e1%83%94%e1%83%97%e1%83%94%e1%83%a1%e1%83%9d-%e1%83%9b%e1%83%98%e1%83%a6%e1%83%ac%e1%83%94%e1%83%95%e1%83%90-3/
CATEGORIES:2021,ძველი ღონისძიება
ATTACH;FMTTYPE=image/png:https://sciencelib.ge/wp-content/uploads/2024/10/წლის-საუკეთესო-მიღწევა-1.png
END:VEVENT
BEGIN:VEVENT
DTSTART;VALUE=DATE:20230310
DTEND;VALUE=DATE:20230311
DTSTAMP:20260420T060605
CREATED:20241021T105008Z
LAST-MODIFIED:20241021T105008Z
UID:40843-1678406400-1678492799@sciencelib.ge
SUMMARY:ტრენინგი - "3D მოდელირება და ბეჭდვა"
DESCRIPTION:ეროვნულ სამეცნიერო ბიბლიოთეკაში მეხუთე და მეექვსე კლასის სკოლის მოსწავლეებისთვის ჩატარდა სასწავლო ტრენინგი: „3D მოდელირება და ბეჭდვა”\, ტრენერი ვანო ნაზღაიძე. ტრენინგის შესახებ დაწვრილებითი ინფორმაცია იხილეთ მითითებულ ბმულზე: \nhttps://www.facebook.com/NSLGeorgia/posts/pfbid02NnpaYcTC9cnZJniJ84MzwjxnS83ZTyqH53rS2Mb2ZzmFXQCffj4Xtc3Qi7uJcm42l
URL:https://sciencelib.ge/event/%e1%83%a2%e1%83%a0%e1%83%94%e1%83%9c%e1%83%98%e1%83%9c%e1%83%92%e1%83%98-3d-%e1%83%9b%e1%83%9d%e1%83%93%e1%83%94%e1%83%9a%e1%83%98%e1%83%a0%e1%83%94%e1%83%91%e1%83%90-%e1%83%93%e1%83%90-%e1%83%91/
CATEGORIES:2023,ძველი ღონისძიება
ATTACH;FMTTYPE=image/jpeg:https://sciencelib.ge/wp-content/uploads/2024/10/ტრენინგი-3D-მოდელირება-და-ბეჭდვა.jpg
END:VEVENT
BEGIN:VEVENT
DTSTART;VALUE=DATE:20230314
DTEND;VALUE=DATE:20230315
DTSTAMP:20260420T060605
CREATED:20241021T105330Z
LAST-MODIFIED:20241021T105330Z
UID:40850-1678752000-1678838399@sciencelib.ge
SUMMARY:მათემატიკური დღესასწაული - "პის დღე"
DESCRIPTION:პის დღე — მათემატიკური დღესასწაულის აღსანიშნად მომზადდა ვიდეო რგოლი სადაც I\, II და III კლასის მოსწავლეებმა ახსნეს მათი თვალით დანახული სახალისო მათემატიკა. ღონისძიების შესახებ დაწვრილებითი ინფორმაცია იხილეთ მითითებულ ბმულზე: \nhttps://www.youtube.com/watch?fbclid=IwAR2vJHAbiJb3CtpS7Ot2X4PhrI9yDhWIg5GIzlLAcU3G-LWbq4zvzmDklEs&v=suJV0pWPbqY&feature=youtu.be
URL:https://sciencelib.ge/event/%e1%83%9b%e1%83%90%e1%83%97%e1%83%94%e1%83%9b%e1%83%90%e1%83%a2%e1%83%98%e1%83%99%e1%83%a3%e1%83%a0%e1%83%98-%e1%83%93%e1%83%a6%e1%83%94%e1%83%a1%e1%83%90%e1%83%a1%e1%83%ac%e1%83%90%e1%83%a3%e1%83%9a/
CATEGORIES:2023,ძველი ღონისძიება
ATTACH;FMTTYPE=image/jpeg:https://sciencelib.ge/wp-content/uploads/2024/10/მათემატიკური-დღესასწაული-პის-დღე.jpg
END:VEVENT
BEGIN:VEVENT
DTSTART;VALUE=DATE:20230321
DTEND;VALUE=DATE:20230322
DTSTAMP:20260420T060605
CREATED:20241021T105534Z
LAST-MODIFIED:20241021T105534Z
UID:40853-1679356800-1679443199@sciencelib.ge
SUMMARY:ანიმაციის შემსწავლელი კურსები
DESCRIPTION:ეროვნულ სამეცნიერო ბიბლიოთეკის ბაზაზე არსებულ ანიმაციის სასწავლო სტუდიაში უკრაინელი ბავშვებისთვის ჩატარდა ანიმაციის შემსწავლელი კურსები. კურსის შესახებ დაწვრილებითი ინფორმაცია იხილეთ მითითებულ ბმულზე: \nhttps://www.facebook.com/NSLGeorgia/posts/pfbid0ts1vneDvaCi5oA1LrkupB4QLjF457cCP9hKqGshhDhjDpJEHdy786fFbgHmpBjVFl
URL:https://sciencelib.ge/event/%e1%83%90%e1%83%9c%e1%83%98%e1%83%9b%e1%83%90%e1%83%aa%e1%83%98%e1%83%98%e1%83%a1-%e1%83%a8%e1%83%94%e1%83%9b%e1%83%a1%e1%83%ac%e1%83%90%e1%83%95%e1%83%9a%e1%83%94%e1%83%9a%e1%83%98-%e1%83%99%e1%83%a3/
CATEGORIES:2023,ძველი ღონისძიება
ATTACH;FMTTYPE=image/jpeg:https://sciencelib.ge/wp-content/uploads/2024/10/ანიმაციის-შემსწავლელი-კურსები.jpg
END:VEVENT
BEGIN:VEVENT
DTSTART;VALUE=DATE:20230328
DTEND;VALUE=DATE:20230329
DTSTAMP:20260420T060605
CREATED:20241021T105737Z
LAST-MODIFIED:20241021T105737Z
UID:40860-1679961600-1680047999@sciencelib.ge
SUMMARY:ვორქშოფი - „ვერბალური და არავერბალური კომუნიკაცია“
DESCRIPTION:ეროვნულ სამეცნიერო ბიბლიოთეკაში კონკურსის – „თეზისი 3 წუთში“ და „ჩემი მთავარი სამეცნიერო მიღწევის” მონაწილეებისათვის ჩატარდა ეფექტური კომუნიკაციის ვორქშოფი – „ვერბალური და არავერბალური კომუნიკაცია“. ვორქშოფის შესახებ დაწვრილებითი ინფორმაცია იხილეთ მითითებულ ბმულზე: \nhttps://www.facebook.com/NSLGeorgia/posts/pfbid02gg6hrnZheLUmGAKX9petd49uwpfb31XAXaEzWs9BWatbbjSxJrEC2di2Whd6FPcWl
URL:https://sciencelib.ge/event/%e1%83%95%e1%83%9d%e1%83%a0%e1%83%a5%e1%83%a8%e1%83%9d%e1%83%a4%e1%83%98-%e1%83%95%e1%83%94%e1%83%a0%e1%83%91%e1%83%90%e1%83%9a%e1%83%a3%e1%83%a0%e1%83%98-%e1%83%93%e1%83%90-%e1%83%90/
CATEGORIES:2023,ძველი ღონისძიება
ATTACH;FMTTYPE=image/jpeg:https://sciencelib.ge/wp-content/uploads/2024/10/ვორქშოფი-ვერბალური-და-არავერბალური-კომუნიკაცია.jpg
END:VEVENT
BEGIN:VEVENT
DTSTART;VALUE=DATE:20230329
DTEND;VALUE=DATE:20230330
DTSTAMP:20260420T060605
CREATED:20241021T105959Z
LAST-MODIFIED:20241021T105959Z
UID:40863-1680048000-1680134399@sciencelib.ge
SUMMARY:ტატა ბაზღაძის საჯარო ლექცია - "ნეიროგანვითარებითი დარღვევები "
DESCRIPTION:ეროვნულ სამეცნიერო ბიბლიოთეკაში ჩატარდა ტატა ბაზღაძის საჯარო ლექცია – “ნეიროგანვითარებითი დარღვევები – გამომწვევი მიზეზები\, დიაგნოსტირება\, მართვა”. საჯარო ლექციის შესახებ დაწვრილებითი ინფორმაცია იხილეთ მითითებულ ბმულზე: \nhttps://www.facebook.com/NSLGeorgia/posts/pfbid02kbanoi39bcCMndpgE38VV3YL68Jm7vinct452iDETsrKvXqCMaujmKTdSMCstYNrl
URL:https://sciencelib.ge/event/%e1%83%a2%e1%83%90%e1%83%a2%e1%83%90-%e1%83%91%e1%83%90%e1%83%96%e1%83%a6%e1%83%90%e1%83%ab%e1%83%98%e1%83%a1-%e1%83%a1%e1%83%90%e1%83%af%e1%83%90%e1%83%a0%e1%83%9d-%e1%83%9a%e1%83%94%e1%83%a5/
CATEGORIES:2023,ძველი ღონისძიება
ATTACH;FMTTYPE=image/jpeg:https://sciencelib.ge/wp-content/uploads/2024/10/ტატა-ბაზღაძის-საჯარო-ლექცია-ნეიროგანვითარებითი-დარღვევები.jpg
END:VEVENT
END:VCALENDAR