BEGIN:VCALENDAR
VERSION:2.0
PRODID:-//ეროვნული სამეცნიერო ბიბლიოთეკა - ECPv6.15.18//NONSGML v1.0//EN
CALSCALE:GREGORIAN
METHOD:PUBLISH
X-ORIGINAL-URL:https://sciencelib.ge
X-WR-CALDESC:Events for ეროვნული სამეცნიერო ბიბლიოთეკა
REFRESH-INTERVAL;VALUE=DURATION:PT1H
X-Robots-Tag:noindex
X-PUBLISHED-TTL:PT1H
BEGIN:VTIMEZONE
TZID:Asia/Dubai
BEGIN:STANDARD
TZOFFSETFROM:+0400
TZOFFSETTO:+0400
TZNAME:+04
DTSTART:20200101T000000
END:STANDARD
END:VTIMEZONE
BEGIN:VEVENT
DTSTART;VALUE=DATE:20211223
DTEND;VALUE=DATE:20231224
DTSTAMP:20260419T194138
CREATED:20241011T105641Z
LAST-MODIFIED:20241011T105832Z
UID:31494-1640217600-1703375999@sciencelib.ge
SUMMARY:წლის საუკეთესო მიღწევა
DESCRIPTION:ეროვნული სამეცნიერო ბიბლიოთეკის ორგანიზებით 2021 წლის 23 დეკემბერს საქართველოს სამეცნიერო და უმაღლესი სასწავლო დაწესებულებებისთვის ჩატარდა რიგით მეოთხე ღინისძიება თემაზე – „წლის საუკეთესო მიღწევა“. ოცდასამმა ორგანიზაციამ წარმოადგინა პრეზენტაცია 2021 წლის განმავლობაში მათ მიერ განხორციელებული ყველაზე მნიშვნელოვანი აქტივობის შესახებ. ღონისძიების შესახებ დაწვრილებითი ინფორმაცია იხილეთ მითითებულ ბმულზე: \nhttps://www.facebook.com/NSLGeorgia/posts/pfbid02PnzE4U3UcEUSyL9KEKD3BfwVdJYe6cMQyaS7v6pZuqrnVBwvjQBX8oSDJFb8rmVAl
URL:https://sciencelib.ge/event/%e1%83%ac%e1%83%9a%e1%83%98%e1%83%a1-%e1%83%a1%e1%83%90%e1%83%a3%e1%83%99%e1%83%94%e1%83%97%e1%83%94%e1%83%a1%e1%83%9d-%e1%83%9b%e1%83%98%e1%83%a6%e1%83%ac%e1%83%94%e1%83%95%e1%83%90-3/
CATEGORIES:2021,ძველი ღონისძიება
ATTACH;FMTTYPE=image/png:https://sciencelib.ge/wp-content/uploads/2024/10/წლის-საუკეთესო-მიღწევა-1.png
END:VEVENT
BEGIN:VEVENT
DTSTART;VALUE=DATE:20230710
DTEND;VALUE=DATE:20230711
DTSTAMP:20260419T194138
CREATED:20241021T114602Z
LAST-MODIFIED:20241021T114602Z
UID:40935-1688947200-1689033599@sciencelib.ge
SUMMARY:ტრენინგი თემაზე - "სამეცნიერო სტატიის შეფასება"
DESCRIPTION:ეროვნული სამეცნიერო ბიბლიოთეკის ორგანიზებით ჩატარდა ტრენინგი თემაზე – “სამეცნიერო სტატიის შეფასება”. ტრენინგის შესახებ დაწვრილებითი ინფორმაცია იხილეთ მითითებულ ბმულზე: \nhttps://www.facebook.com/NSLGeorgia/posts/pfbid026pfywMaP4fkLfJP8b1tWbATkw1nbWMPGYqSbsiW3jRvyT274Z6yv5foY2naQzTWal
URL:https://sciencelib.ge/event/%e1%83%a2%e1%83%a0%e1%83%94%e1%83%9c%e1%83%98%e1%83%9c%e1%83%92%e1%83%98-%e1%83%97%e1%83%94%e1%83%9b%e1%83%90%e1%83%96%e1%83%94-%e1%83%a1%e1%83%90%e1%83%9b%e1%83%94%e1%83%aa%e1%83%9c%e1%83%98/
CATEGORIES:2023
ATTACH;FMTTYPE=image/jpeg:https://sciencelib.ge/wp-content/uploads/2024/10/ტრენინგი-თემაზე-სამეცნიერო-სტატიის-შეფასება.jpg
END:VEVENT
BEGIN:VEVENT
DTSTART;VALUE=DATE:20230711
DTEND;VALUE=DATE:20230712
DTSTAMP:20260419T194138
CREATED:20241021T114701Z
LAST-MODIFIED:20241021T114701Z
UID:40938-1689033600-1689119999@sciencelib.ge
SUMMARY:ტრენინგების ციკლი მეცნიერ-მკვლევართათვის
DESCRIPTION:ეროვნული სამეცნიერო ბიბლიოთეკის ორგანიზებით ბათუმის სახელმწიფო საზღვაო აკადემია-ის მეცნიერ-მკვლევართათვის დღეს ტრენინგების ციკლი ჩატარდა\, რომელიც 3 დღის განმავლობაში გაგრძელდა. ტრენინგის შესახებ დაწვრილებითი ინფორმაცია იხილეთ მითითებულ ბმულზე: \nhttps://www.facebook.com/NSLGeorgia/posts/pfbid0vT2vdd6rqJQe99iUzcVLWPTNiHDTb4Qdcwuf5U3PMBn2TTTZEqHs6HKfc8quzKDFl
URL:https://sciencelib.ge/event/%e1%83%a2%e1%83%a0%e1%83%94%e1%83%9c%e1%83%98%e1%83%9c%e1%83%92%e1%83%94%e1%83%91%e1%83%98%e1%83%a1-%e1%83%aa%e1%83%98%e1%83%99%e1%83%9a%e1%83%98-%e1%83%9b%e1%83%94%e1%83%aa%e1%83%9c%e1%83%98%e1%83%94/
CATEGORIES:2023,ძველი ღონისძიება
ATTACH;FMTTYPE=image/jpeg:https://sciencelib.ge/wp-content/uploads/2024/10/ტრენინგების-ციკლი-მეცნიერ-მკვლევართათვის.jpg
END:VEVENT
END:VCALENDAR